BEGIN:VCALENDAR
VERSION:2.0
PRODID:-//TSV Reigoldswil - ECPv6.15.17.1//NONSGML v1.0//EN
CALSCALE:GREGORIAN
METHOD:PUBLISH
X-WR-CALNAME:TSV Reigoldswil
X-ORIGINAL-URL:https://tsv-reigoldswil.ch
X-WR-CALDESC:Veranstaltungen für TSV Reigoldswil
REFRESH-INTERVAL;VALUE=DURATION:PT1H
X-Robots-Tag:noindex
X-PUBLISHED-TTL:PT1H
BEGIN:VTIMEZONE
TZID:Europe/Berlin
BEGIN:DAYLIGHT
TZOFFSETFROM:+0100
TZOFFSETTO:+0200
TZNAME:CEST
DTSTART:20240331T010000
END:DAYLIGHT
BEGIN:STANDARD
TZOFFSETFROM:+0200
TZOFFSETTO:+0100
TZNAME:CET
DTSTART:20241027T010000
END:STANDARD
BEGIN:DAYLIGHT
TZOFFSETFROM:+0100
TZOFFSETTO:+0200
TZNAME:CEST
DTSTART:20250330T010000
END:DAYLIGHT
BEGIN:STANDARD
TZOFFSETFROM:+0200
TZOFFSETTO:+0100
TZNAME:CET
DTSTART:20251026T010000
END:STANDARD
BEGIN:DAYLIGHT
TZOFFSETFROM:+0100
TZOFFSETTO:+0200
TZNAME:CEST
DTSTART:20260329T010000
END:DAYLIGHT
BEGIN:STANDARD
TZOFFSETFROM:+0200
TZOFFSETTO:+0100
TZNAME:CET
DTSTART:20261025T010000
END:STANDARD
BEGIN:DAYLIGHT
TZOFFSETFROM:+0100
TZOFFSETTO:+0200
TZNAME:CEST
DTSTART:20270328T010000
END:DAYLIGHT
BEGIN:STANDARD
TZOFFSETFROM:+0200
TZOFFSETTO:+0100
TZNAME:CET
DTSTART:20271031T010000
END:STANDARD
END:VTIMEZONE
BEGIN:VEVENT
DTSTART;VALUE=DATE:20260325
DTEND;VALUE=DATE:20260326
DTSTAMP:20260419T171619
CREATED:20260207T065524Z
LAST-MODIFIED:20260207T065524Z
UID:146357-1774396800-1774483199@tsv-reigoldswil.ch
SUMMARY:1.Mannschaft Heimspiel
DESCRIPTION:
URL:https://tsv-reigoldswil.ch/veranstaltung/1-mannschaft-heimspiel-3/
LOCATION:Reigoldswil
CATEGORIES:Volleyball
END:VEVENT
BEGIN:VEVENT
DTSTART;VALUE=DATE:20260311
DTEND;VALUE=DATE:20260312
DTSTAMP:20260419T171619
CREATED:20260207T065445Z
LAST-MODIFIED:20260207T065445Z
UID:146355-1773187200-1773273599@tsv-reigoldswil.ch
SUMMARY:1.Mannschaft Heimspiel
DESCRIPTION:
URL:https://tsv-reigoldswil.ch/veranstaltung/1-mannschaft-heimspiel-2/
LOCATION:Reigoldswil
CATEGORIES:Volleyball
END:VEVENT
BEGIN:VEVENT
DTSTART;VALUE=DATE:20260304
DTEND;VALUE=DATE:20260305
DTSTAMP:20260419T171619
CREATED:20260207T065410Z
LAST-MODIFIED:20260207T065410Z
UID:146353-1772582400-1772668799@tsv-reigoldswil.ch
SUMMARY:1.Mannschaft Heimspiel
DESCRIPTION:
URL:https://tsv-reigoldswil.ch/veranstaltung/1-mannschaft-heimspiel/
LOCATION:Reigoldswil
CATEGORIES:Volleyball
END:VEVENT
BEGIN:VEVENT
DTSTART;VALUE=DATE:20260212
DTEND;VALUE=DATE:20260213
DTSTAMP:20260419T171619
CREATED:20260207T065322Z
LAST-MODIFIED:20260207T065322Z
UID:146351-1770854400-1770940799@tsv-reigoldswil.ch
SUMMARY:2.Mannschaft Auswärtsspiel
DESCRIPTION:
URL:https://tsv-reigoldswil.ch/veranstaltung/2-mannschaft-auswaertsspiel-2/
CATEGORIES:Volleyball
END:VEVENT
BEGIN:VEVENT
DTSTART;VALUE=DATE:20260211
DTEND;VALUE=DATE:20260212
DTSTAMP:20260419T171619
CREATED:20260207T065153Z
LAST-MODIFIED:20260207T065153Z
UID:146348-1770768000-1770854399@tsv-reigoldswil.ch
SUMMARY:2.Mannschaft Heimspiel
DESCRIPTION:
URL:https://tsv-reigoldswil.ch/veranstaltung/2-mannschaft-heimspiel-2/
CATEGORIES:Volleyball
END:VEVENT
BEGIN:VEVENT
DTSTART;VALUE=DATE:20260208
DTEND;VALUE=DATE:20260209
DTSTAMP:20260419T171619
CREATED:20260207T063618Z
LAST-MODIFIED:20260207T064645Z
UID:146318-1770508800-1770595199@tsv-reigoldswil.ch
SUMMARY:Schlittschuhlaufen
DESCRIPTION:
URL:https://tsv-reigoldswil.ch/veranstaltung/schlittschuhlaufen/
LOCATION:Laufen
CATEGORIES:Jugend
END:VEVENT
BEGIN:VEVENT
DTSTART;VALUE=DATE:20260207
DTEND;VALUE=DATE:20260208
DTSTAMP:20260419T171619
CREATED:20260207T065915Z
LAST-MODIFIED:20260207T065915Z
UID:146368-1770422400-1770508799@tsv-reigoldswil.ch
SUMMARY:Musikabend servieren
DESCRIPTION:
URL:https://tsv-reigoldswil.ch/veranstaltung/musikabend-servieren/
LOCATION:Reigoldswil
CATEGORIES:Gemeinsame Anlässe
END:VEVENT
BEGIN:VEVENT
DTSTART;VALUE=DATE:20260205
DTEND;VALUE=DATE:20260206
DTSTAMP:20260419T171619
CREATED:20260207T065842Z
LAST-MODIFIED:20260207T065842Z
UID:146365-1770249600-1770335999@tsv-reigoldswil.ch
SUMMARY:Vereinsversammlung
DESCRIPTION:
URL:https://tsv-reigoldswil.ch/veranstaltung/vereinsversammlung/
LOCATION:Restaurant Sonne\, Reigoldswil
CATEGORIES:Gemeinsame Anlässe
END:VEVENT
BEGIN:VEVENT
DTSTART;VALUE=DATE:20260130
DTEND;VALUE=DATE:20260131
DTSTAMP:20260419T171619
CREATED:20260207T065702Z
LAST-MODIFIED:20260207T065702Z
UID:146362-1769731200-1769817599@tsv-reigoldswil.ch
SUMMARY:Fondueplausch
DESCRIPTION:
URL:https://tsv-reigoldswil.ch/veranstaltung/fondueplausch/
LOCATION:Bärengrabenhütte
CATEGORIES:Gemeinsame Anlässe
END:VEVENT
BEGIN:VEVENT
DTSTART;VALUE=DATE:20260125
DTEND;VALUE=DATE:20260126
DTSTAMP:20260419T171619
CREATED:20260207T063540Z
LAST-MODIFIED:20260207T064013Z
UID:146315-1769299200-1769385599@tsv-reigoldswil.ch
SUMMARY:Hallenmehrkampf
DESCRIPTION:
URL:https://tsv-reigoldswil.ch/veranstaltung/hallenmehrkampf/
LOCATION:Liestal
CATEGORIES:Jugend
END:VEVENT
BEGIN:VEVENT
DTSTART;VALUE=DATE:20260121
DTEND;VALUE=DATE:20260122
DTSTAMP:20260419T171619
CREATED:20260207T065120Z
LAST-MODIFIED:20260207T065120Z
UID:146346-1768953600-1769039999@tsv-reigoldswil.ch
SUMMARY:2.Mannschaft Heimspiel
DESCRIPTION:
URL:https://tsv-reigoldswil.ch/veranstaltung/2-mannschaft-heimspiel/
LOCATION:Reigoldswil
CATEGORIES:Volleyball
END:VEVENT
BEGIN:VEVENT
DTSTART;VALUE=DATE:20260121
DTEND;VALUE=DATE:20260122
DTSTAMP:20260419T171619
CREATED:20260207T065044Z
LAST-MODIFIED:20260207T065044Z
UID:146344-1768953600-1769039999@tsv-reigoldswil.ch
SUMMARY:1.Mannschaft Auswärtsspiel
DESCRIPTION:
URL:https://tsv-reigoldswil.ch/veranstaltung/1-mannschaft-auswaertsspiel-3/
CATEGORIES:Volleyball
END:VEVENT
BEGIN:VEVENT
DTSTART;VALUE=DATE:20260115
DTEND;VALUE=DATE:20260116
DTSTAMP:20260419T171619
CREATED:20260207T065616Z
LAST-MODIFIED:20260207T065616Z
UID:146359-1768435200-1768521599@tsv-reigoldswil.ch
SUMMARY:Unihockeyturnier
DESCRIPTION:Genaues Datum folgt!
URL:https://tsv-reigoldswil.ch/veranstaltung/unihockeyturnier/
CATEGORIES:Donnerstagsturnende
END:VEVENT
BEGIN:VEVENT
DTSTART;VALUE=DATE:20260115
DTEND;VALUE=DATE:20260116
DTSTAMP:20260419T171619
CREATED:20260207T065000Z
LAST-MODIFIED:20260207T065000Z
UID:146341-1768435200-1768521599@tsv-reigoldswil.ch
SUMMARY:2.Mannschaft Auswärtsspiel
DESCRIPTION:
URL:https://tsv-reigoldswil.ch/veranstaltung/2-mannschaft-auswaertsspiel/
CATEGORIES:Volleyball
END:VEVENT
BEGIN:VEVENT
DTSTART;VALUE=DATE:20260109
DTEND;VALUE=DATE:20260110
DTSTAMP:20260419T171619
CREATED:20260207T064606Z
LAST-MODIFIED:20260207T064606Z
UID:146333-1767916800-1768003199@tsv-reigoldswil.ch
SUMMARY:Volleynight
DESCRIPTION:
URL:https://tsv-reigoldswil.ch/veranstaltung/volleynight/
LOCATION:Bubendorf
CATEGORIES:Volleyball
END:VEVENT
BEGIN:VEVENT
DTSTART;VALUE=DATE:20260107
DTEND;VALUE=DATE:20260108
DTSTAMP:20260419T171619
CREATED:20260207T064528Z
LAST-MODIFIED:20260207T064528Z
UID:146331-1767744000-1767830399@tsv-reigoldswil.ch
SUMMARY:1.Mannschaft Auswärtsspiel
DESCRIPTION:
URL:https://tsv-reigoldswil.ch/veranstaltung/1-mannschaft-auswaertsspiel-2/
CATEGORIES:Volleyball
END:VEVENT
BEGIN:VEVENT
DTSTART;VALUE=DATE:20260106
DTEND;VALUE=DATE:20260107
DTSTAMP:20260419T171619
CREATED:20260207T064455Z
LAST-MODIFIED:20260207T064455Z
UID:146329-1767657600-1767743999@tsv-reigoldswil.ch
SUMMARY:1.Mannschaft Auswärtsspiel
DESCRIPTION:
URL:https://tsv-reigoldswil.ch/veranstaltung/1-mannschaft-auswaertsspiel/
CATEGORIES:Volleyball
END:VEVENT
BEGIN:VEVENT
DTSTART;VALUE=DATE:20250613
DTEND;VALUE=DATE:20250616
DTSTAMP:20260419T171619
CREATED:20250315T141950Z
LAST-MODIFIED:20250315T141950Z
UID:145812-1749772800-1750031999@tsv-reigoldswil.ch
SUMMARY:Nordwestschweizerisches Jodlerfest Reigoldswil
DESCRIPTION:
URL:https://tsv-reigoldswil.ch/veranstaltung/nordwestschweizerisches-jodlerfest-reigoldswil/
END:VEVENT
BEGIN:VEVENT
DTSTART;VALUE=DATE:20250612
DTEND;VALUE=DATE:20250623
DTSTAMP:20260419T171619
CREATED:20250315T142030Z
LAST-MODIFIED:20250315T142030Z
UID:145815-1749686400-1750636799@tsv-reigoldswil.ch
SUMMARY:ETF Lausanne
DESCRIPTION:
URL:https://tsv-reigoldswil.ch/veranstaltung/etf-lausanne/
END:VEVENT
BEGIN:VEVENT
DTSTART;VALUE=DATE:20250427
DTEND;VALUE=DATE:20250428
DTSTAMP:20260419T171619
CREATED:20250315T142134Z
LAST-MODIFIED:20260206T173823Z
UID:145817-1745712000-1745798399@tsv-reigoldswil.ch
SUMMARY:Eierläset
DESCRIPTION:
URL:https://tsv-reigoldswil.ch/veranstaltung/eierlaeset/
ATTACH;FMTTYPE=image/jpeg:https://tsv-reigoldswil.ch/wp-content/uploads/2025/02/l47.jpg
END:VEVENT
END:VCALENDAR